Workbook

Sheet LİSTELER
A1: 7/G SINIFI
A3: SIRA NO | B3: OKUL NO | C3: ADI SOYADI
A4: 1
A5: 2
A6: 3
A7: 4
A8: 5
A9: 6
A10: 7
A11: 8
A12: 9
A13: 10
A14: 11
A15: 12
... A43: 40

Sheet YAZILI 1
A3: 7/G SINIFI SINAV PUAN ORTALAMALARI
A4: SIRA NO | B4: OKUL NO | C4: ADI SOYADI | D4: 1. YAZILI | E4: YAZILI %50 | F4: Speaking %25 | G4: Listening %25 | H4: Toplam Puan
A5: 1 | B5: =IF(LİSTELER!B4=0," ",LİSTELER!B4) | C5: =IF(LİSTELER!C4=0," ",LİSTELER!C4) | E5: =D5/2 -> 0 | F5: ='SPEAKING 1'!I7*25/100 -> 0 | G5: ='LISTENING 1'!D5*25/100 -> 0 | H5: =SUM(E5:G5) -> 0
A6: 2 | B6: =IF(LİSTELER!B5=0," ",LİSTELER!B5) | C6: =IF(LİSTELER!C5=0," ",LİSTELER!C5) | E6: =D6/2 -> 0 | F6: ='SPEAKING 1'!I8*25/100 -> 0 | G6: ='LISTENING 1'!D6*25/100 -> 0 | H6: =SUM(E6:G6) -> 0
A7: 3 | B7: =IF(LİSTELER!B6=0," ",LİSTELER!B6) | C7: =IF(LİSTELER!C6=0," ",LİSTELER!C6) | E7: =D7/2 -> 0 | F7: ='SPEAKING 1'!I9*25/100 -> 0 | G7: ='LISTENING 1'!D7*25/100 -> 0 | H7: =SUM(E7:G7) -> 0
A8: 4 | B8: =IF(LİSTELER!B7=0," ",LİSTELER!B7) | C8: =IF(LİSTELER!C7=0," ",LİSTELER!C7) | E8: =D8/2 -> 0 | F8: ='SPEAKING 1'!I10*25/100 -> 0 | G8: ='LISTENING 1'!D8*25/100 -> 0 | H8: =SUM(E8:G8) -> 0
A9: 5 | B9: =IF(LİSTELER!B8=0," ",LİSTELER!B8) | C9: =IF(LİSTELER!C8=0," ",LİSTELER!C8) | E9: =D9/2 -> 0 | F9: ='SPEAKING 1'!I11*25/100 -> 0 | G9: ='LISTENING 1'!D9*25/100 -> 0 | H9: =SUM(E9:G9) -> 0
A10: 6 | B10: =IF(LİSTELER!B9=0," ",LİSTELER!B9) | C10: =IF(LİSTELER!C9=0," ",LİSTELER!C9) | E10: =D10/2 -> 0 | F10: ='SPEAKING 1'!I12*25/100 -> 0 | G10: ='LISTENING 1'!D10*25/100 -> 0 | H10: =SUM(E10:G10) -> 0
A11: 7 | B11: =IF(LİSTELER!B10=0," ",LİSTELER!B10) | C11: =IF(LİSTELER!C10=0," ",LİSTELER!C10) | E11: =D11/2 -> 0 | F11: ='SPEAKING 1'!I13*25/100 -> 0 | G11: ='LISTENING 1'!D11*25/100 -> 0 | H11: =SUM(E11:G11) -> 0
A12: 8 | B12: =IF(LİSTELER!B11=0," ",LİSTELER!B11) | C12: =IF(LİSTELER!C11=0," ",LİSTELER!C11) | E12: =D12/2 -> 0 | F12: ='SPEAKING 1'!I14*25/100 -> 0 | G12: ='LISTENING 1'!D12*25/100 -> 0 | H12: =SUM(E12:G12) -> 0
A13: 9 | B13: =IF(LİSTELER!B12=0," ",LİSTELER!B12) | C13: =IF(LİSTELER!C12=0," ",LİSTELER!C12) | E13: =D13/2 -> 0 | F13: ='SPEAKING 1'!I15*25/100 -> 0 | G13: ='LISTENING 1'!D13*25/100 -> 0 | H13: =SUM(E13:G13) -> 0
A14: 10 | B14: =IF(LİSTELER!B13=0," ",LİSTELER!B13) | C14: =IF(LİSTELER!C13=0," ",LİSTELER!C13) | E14: =D14/2 -> 0 | F14: ='SPEAKING 1'!I16*25/100 -> 0 | G14: ='LISTENING 1'!D14*25/100 -> 0 | H14: =SUM(E14:G14) -> 0
A15: 11 | B15: =IF(LİSTELER!B14=0," ",LİSTELER!B14) | C15: =IF(LİSTELER!C14=0," ",LİSTELER!C14) | E15: =D15/2 -> 0 | F15: ='SPEAKING 1'!I17*25/100 -> 0 | G15: ='LISTENING 1'!D15*25/100 -> 0 | H15: =SUM(E15:G15) -> 0
A16: 12 | B16: =IF(LİSTELER!B15=0," ",LİSTELER!B15) | C16: =IF(LİSTELER!C15=0," ",LİSTELER!C15) | E16: =D16/2 -> 0 | F16: ='SPEAKING 1'!I18*25/100 -> 0 | G16: ='LISTENING 1'!D16*25/100 -> 0 | H16: =SUM(E16:G16) -> 0
... A44: 40 | B44: =IF(LİSTELER!B43=0," ",LİSTELER!B43) | C44: =IF(LİSTELER!C43=0," ",LİSTELER!C43) | E44: =D44/2 -> 0 | F44: ='SPEAKING 1'!I46*25/100 -> 0 | G44: ='LISTENING 1'!D44*25/100 -> 0 | H44: =SUM(E44:G44) -> 0

Sheet SPEAKING 1
A2: 2023-2024 EĞİTİM ÖĞRETİM YILI İNGİLİZCE DERSİ 1.DÖNEM 1. KONUŞMA SINAVI DEĞERLENDİRME ÖLÇEĞİ
A4: SINIF: 7/G | C4: Konuşma Sınavı Değerlendirme Çizelgesi | D4: CONTENT | E4: ORGANIZATION | F4: VOCABULARY | G4: FLUENCY | H4: ACCURACY | I4: TOTAL
A6: SIRA NO | B6: OKUL NO | C6: ADI SOYADI | D6: 20 | E6: 20 | F6: 20 | G6: 20 | H6: 20 | I6: 100
A7: 1 | B7: =IF(LİSTELER!B4=0," ",LİSTELER!B4) | C7: =IF(LİSTELER!C4=0," ",LİSTELER!C4) | I7: =SUM(D7:H7) -> 0
A8: 2 | B8: =IF(LİSTELER!B5=0," ",LİSTELER!B5) | C8: =IF(LİSTELER!C5=0," ",LİSTELER!C5) | I8: =SUM(D8:H8) -> 0
A9: 3 | B9: =IF(LİSTELER!B6=0," ",LİSTELER!B6) | C9: =IF(LİSTELER!C6=0," ",LİSTELER!C6) | I9: =SUM(D9:H9) -> 0
A10: 4 | B10: =IF(LİSTELER!B7=0," ",LİSTELER!B7) | C10: =IF(LİSTELER!C7=0," ",LİSTELER!C7) | I10: =SUM(D10:H10) -> 0
A11: 5 | B11: =IF(LİSTELER!B8=0," ",LİSTELER!B8) | C11: =IF(LİSTELER!C8=0," ",LİSTELER!C8) | I11: =SUM(D11:H11) -> 0
A12: 6 | B12: =IF(LİSTELER!B9=0," ",LİSTELER!B9) | C12: =IF(LİSTELER!C9=0," ",LİSTELER!C9) | I12: =SUM(D12:H12) -> 0
A13: 7 | B13: =IF(LİSTELER!B10=0," ",LİSTELER!B10) | C13: =IF(LİSTELER!C10=0," ",LİSTELER!C10) | I13: =SUM(D13:H13) -> 0
A14: 8 | B14: =IF(LİSTELER!B11=0," ",LİSTELER!B11) | C14: =IF(LİSTELER!C11=0," ",LİSTELER!C11) | I14: =SUM(D14:H14) -> 0
A15: 9 | B15: =IF(LİSTELER!B12=0," ",LİSTELER!B12) | C15: =IF(LİSTELER!C12=0," ",LİSTELER!C12) | I15: =SUM(D15:H15) -> 0
A16: 10 | B16: =IF(LİSTELER!B13=0," ",LİSTELER!B13) | C16: =IF(LİSTELER!C13=0," ",LİSTELER!C13) | I16: =SUM(D16:H16) -> 0
A17: 11 | B17: =IF(LİSTELER!B14=0," ",LİSTELER!B14) | C17: =IF(LİSTELER!C14=0," ",LİSTELER!C14) | I17: =SUM(D17:H17) -> 0
A18: 12 | B18: =IF(LİSTELER!B15=0," ",LİSTELER!B15) | C18: =IF(LİSTELER!C15=0," ",LİSTELER!C15) | I18: =SUM(D18:H18) -> 0
... A46: 40 | B46: =IF(LİSTELER!B43=0," ",LİSTELER!B43) | C46: =IF(LİSTELER!C43=0," ",LİSTELER!C43) | I46: =SUM(D46:H46) -> 0
F48: Halil İbrahim KELEŞ
F49: İngilizce Öğretmeni

Sheet LISTENING 1
A3: =LİSTELER!A1 -> 7/G SINIFI
A4: SIRA NO | B4: OKUL NO | C4: ADI SOYADI | D4: Listening Exam 1
A5: 1 | B5: =IF(LİSTELER!B4=0," ",LİSTELER!B4) | C5: =IF(LİSTELER!C4=0," ",LİSTELER!C4)
A6: 2 | B6: =IF(LİSTELER!B5=0," ",LİSTELER!B5) | C6: =IF(LİSTELER!C5=0," ",LİSTELER!C5)
A7: 3 | B7: =IF(LİSTELER!B6=0," ",LİSTELER!B6) | C7: =IF(LİSTELER!C6=0," ",LİSTELER!C6)
A8: 4 | B8: =IF(LİSTELER!B7=0," ",LİSTELER!B7) | C8: =IF(LİSTELER!C7=0," ",LİSTELER!C7)
A9: 5 | B9: =IF(LİSTELER!B8=0," ",LİSTELER!B8) | C9: =IF(LİSTELER!C8=0," ",LİSTELER!C8)
A10: 6 | B10: =IF(LİSTELER!B9=0," ",LİSTELER!B9) | C10: =IF(LİSTELER!C9=0," ",LİSTELER!C9)
A11: 7 | B11: =IF(LİSTELER!B10=0," ",LİSTELER!B10) | C11: =IF(LİSTELER!C10=0," ",LİSTELER!C10)
A12: 8 | B12: =IF(LİSTELER!B11=0," ",LİSTELER!B11) | C12: =IF(LİSTELER!C11=0," ",LİSTELER!C11)
A13: 9 | B13: =IF(LİSTELER!B12=0," ",LİSTELER!B12) | C13: =IF(LİSTELER!C12=0," ",LİSTELER!C12)
A14: 10 | B14: =IF(LİSTELER!B13=0," ",LİSTELER!B13) | C14: =IF(LİSTELER!C13=0," ",LİSTELER!C13)
A15: 11 | B15: =IF(LİSTELER!B14=0," ",LİSTELER!B14) | C15: =IF(LİSTELER!C14=0," ",LİSTELER!C14)
A16: 12 | B16: =IF(LİSTELER!B15=0," ",LİSTELER!B15) | C16: =IF(LİSTELER!C15=0," ",LİSTELER!C15)
... A34: 30 | B34: =IF(LİSTELER!B33=0," ",LİSTELER!B33) | C34: =IF(LİSTELER!C33=0," ",LİSTELER!C33)
A35: 31
A36: 32
A37: 33
A38: 34
A39: 35
A40: 36
A41: 37
A42: 38
A43: 39
A44: 40

Sheet YAZILI 2
A3: ='YAZILI 1'!A3:I3 -> 7/G SINIFI SINAV PUAN ORTALAMALARI
A4: SIRA NO | B4: OKUL NO | C4: ADI SOYADI | D4: 2. YAZILI | E4: YAZILI %50 | F4: Speaking %25 | G4: Listening %25 | H4: Toplam Puan
A5: 1 | B5: =IF(LİSTELER!B4=0," ",LİSTELER!B4) | C5: =IF(LİSTELER!C4=0," ",LİSTELER!C4) | E5: =D5/2 -> 0 | F5: ='SPEAKING 2'!I7*25/100 -> 0 | G5: ='LISTENING 2'!D5*25/100 -> 0 | H5: =SUM(E5:G5) -> 0
A6: 2 | B6: =IF(LİSTELER!B5=0," ",LİSTELER!B5) | C6: =IF(LİSTELER!C5=0," ",LİSTELER!C5) | E6: =D6/2 -> 0 | F6: ='SPEAKING 2'!I8*25/100 -> 0 | G6: ='LISTENING 2'!D6*25/100 -> 0 | H6: =SUM(E6:G6) -> 0
A7: 3 | B7: =IF(LİSTELER!B6=0," ",LİSTELER!B6) | C7: =IF(LİSTELER!C6=0," ",LİSTELER!C6) | E7: =D7/2 -> 0 | F7: ='SPEAKING 2'!I9*25/100 -> 0 | G7: ='LISTENING 2'!D7*25/100 -> 0 | H7: =SUM(E7:G7) -> 0
A8: 4 | B8: =IF(LİSTELER!B7=0," ",LİSTELER!B7) | C8: =IF(LİSTELER!C7=0," ",LİSTELER!C7) | E8: =D8/2 -> 0 | F8: ='SPEAKING 2'!I10*25/100 -> 0 | G8: ='LISTENING 2'!D8*25/100 -> 0 | H8: =SUM(E8:G8) -> 0
A9: 5 | B9: =IF(LİSTELER!B8=0," ",LİSTELER!B8) | C9: =IF(LİSTELER!C8=0," ",LİSTELER!C8) | E9: =D9/2 -> 0 | F9: ='SPEAKING 2'!I11*25/100 -> 0 | G9: ='LISTENING 2'!D9*25/100 -> 0 | H9: =SUM(E9:G9) -> 0
A10: 6 | B10: =IF(LİSTELER!B9=0," ",LİSTELER!B9) | C10: =IF(LİSTELER!C9=0," ",LİSTELER!C9) | E10: =D10/2 -> 0 | F10: ='SPEAKING 2'!I12*25/100 -> 0 | G10: ='LISTENING 2'!D10*25/100 -> 0 | H10: =SUM(E10:G10) -> 0
A11: 7 | B11: =IF(LİSTELER!B10=0," ",LİSTELER!B10) | C11: =IF(LİSTELER!C10=0," ",LİSTELER!C10) | E11: =D11/2 -> 0 | F11: ='SPEAKING 2'!I13*25/100 -> 0 | G11: ='LISTENING 2'!D11*25/100 -> 0 | H11: =SUM(E11:G11) -> 0
A12: 8 | B12: =IF(LİSTELER!B11=0," ",LİSTELER!B11) | C12: =IF(LİSTELER!C11=0," ",LİSTELER!C11) | E12: =D12/2 -> 0 | F12: ='SPEAKING 2'!I14*25/100 -> 0 | G12: ='LISTENING 2'!D12*25/100 -> 0 | H12: =SUM(E12:G12) -> 0
A13: 9 | B13: =IF(LİSTELER!B12=0," ",LİSTELER!B12) | C13: =IF(LİSTELER!C12=0," ",LİSTELER!C12) | E13: =D13/2 -> 0 | F13: ='SPEAKING 2'!I15*25/100 -> 0 | G13: ='LISTENING 2'!D13*25/100 -> 0 | H13: =SUM(E13:G13) -> 0
A14: 10 | B14: =IF(LİSTELER!B13=0," ",LİSTELER!B13) | C14: =IF(LİSTELER!C13=0," ",LİSTELER!C13) | E14: =D14/2 -> 0 | F14: ='SPEAKING 2'!I16*25/100 -> 0 | G14: ='LISTENING 2'!D14*25/100 -> 0 | H14: =SUM(E14:G14) -> 0
A15: 11 | B15: =IF(LİSTELER!B14=0," ",LİSTELER!B14) | C15: =IF(LİSTELER!C14=0," ",LİSTELER!C14) | E15: =D15/2 -> 0 | F15: ='SPEAKING 2'!I17*25/100 -> 0 | G15: ='LISTENING 2'!D15*25/100 -> 0 | H15: =SUM(E15:G15) -> 0
A16: 12 | B16: =IF(LİSTELER!B15=0," ",LİSTELER!B15) | C16: =IF(LİSTELER!C15=0," ",LİSTELER!C15) | E16: =D16/2 -> 0 | F16: ='SPEAKING 2'!I18*25/100 -> 0 | G16: ='LISTENING 2'!D16*25/100 -> 0 | H16: =SUM(E16:G16) -> 0
... A44: 40 | B44: =IF(LİSTELER!B43=0," ",LİSTELER!B43) | C44: =IF(LİSTELER!C43=0," ",LİSTELER!C43) | E44: =D44/2 -> 0 | F44: ='SPEAKING 2'!I46*25/100 -> 0 | G44: ='LISTENING 2'!D44*25/100 -> 0 | H44: =SUM(E44:G44) -> 0

Sheet SPEAKING 2
A2: 2023-2024 EĞİTİM ÖĞRETİM YILI İNGİLİZCE DERSİ 1.DÖNEM 2. KONUŞMA SINAVI DEĞERLENDİRME ÖLÇEĞİ
A4: ='SPEAKING 1'!A4:B5 -> SINIF: 7/G | C4: Konuşma Sınavı Değerlendirme Çizelgesi | D4: CONTENT | E4: ORGANIZATION | F4: VOCABULARY | G4: FLUENCY | H4: ACCURACY | I4: TOTAL
A6: SIRA NO | B6: OKUL NO | C6: ADI SOYADI | D6: 20 | E6: 20 | F6: 20 | G6: 20 | H6: 20 | I6: 100
A7: 1 | B7: =IF(LİSTELER!B4=0," ",LİSTELER!B4) | C7: =IF(LİSTELER!C4=0," ",LİSTELER!C4) | I7: =SUM(D7:H7) -> 0
A8: 2 | B8: =IF(LİSTELER!B5=0," ",LİSTELER!B5) | C8: =IF(LİSTELER!C5=0," ",LİSTELER!C5) | I8: =SUM(D8:H8) -> 0
A9: 3 | B9: =IF(LİSTELER!B6=0," ",LİSTELER!B6) | C9: =IF(LİSTELER!C6=0," ",LİSTELER!C6) | I9: =SUM(D9:H9) -> 0
A10: 4 | B10: =IF(LİSTELER!B7=0," ",LİSTELER!B7) | C10: =IF(LİSTELER!C7=0," ",LİSTELER!C7) | I10: =SUM(D10:H10) -> 0
A11: 5 | B11: =IF(LİSTELER!B8=0," ",LİSTELER!B8) | C11: =IF(LİSTELER!C8=0," ",LİSTELER!C8) | I11: =SUM(D11:H11) -> 0
A12: 6 | B12: =IF(LİSTELER!B9=0," ",LİSTELER!B9) | C12: =IF(LİSTELER!C9=0," ",LİSTELER!C9) | I12: =SUM(D12:H12) -> 0
A13: 7 | B13: =IF(LİSTELER!B10=0," ",LİSTELER!B10) | C13: =IF(LİSTELER!C10=0," ",LİSTELER!C10) | I13: =SUM(D13:H13) -> 0
A14: 8 | B14: =IF(LİSTELER!B11=0," ",LİSTELER!B11) | C14: =IF(LİSTELER!C11=0," ",LİSTELER!C11) | I14: =SUM(D14:H14) -> 0
A15: 9 | B15: =IF(LİSTELER!B12=0," ",LİSTELER!B12) | C15: =IF(LİSTELER!C12=0," ",LİSTELER!C12) | I15: =SUM(D15:H15) -> 0
A16: 10 | B16: =IF(LİSTELER!B13=0," ",LİSTELER!B13) | C16: =IF(LİSTELER!C13=0," ",LİSTELER!C13) | I16: =SUM(D16:H16) -> 0
A17: 11 | B17: =IF(LİSTELER!B14=0," ",LİSTELER!B14) | C17: =IF(LİSTELER!C14=0," ",LİSTELER!C14) | I17: =SUM(D17:H17) -> 0
A18: 12 | B18: =IF(LİSTELER!B15=0," ",LİSTELER!B15) | C18: =IF(LİSTELER!C15=0," ",LİSTELER!C15) | I18: =SUM(D18:H18) -> 0
... A46: 40 | B46: =IF(LİSTELER!B43=0," ",LİSTELER!B43) | C46: =IF(LİSTELER!C43=0," ",LİSTELER!C43) | I46: =SUM(D46:H46) -> 0
F48: Halil İbrahim KELEŞ
F49: İngilizce Öğretmeni

Sheet LISTENING 2
A3: ='LISTENING 1'!A3:D3 -> 7/G SINIFI
A4: SIRA NO | B4: OKUL NO | C4: ADI SOYADI | D4: Listening Exam 2
A5: 1 | B5: =IF(LİSTELER!B4=0," ",LİSTELER!B4) | C5: =IF(LİSTELER!C4=0," ",LİSTELER!C4)
A6: 2 | B6: =IF(LİSTELER!B5=0," ",LİSTELER!B5) | C6: =IF(LİSTELER!C5=0," ",LİSTELER!C5)
A7: 3 | B7: =IF(LİSTELER!B6=0," ",LİSTELER!B6) | C7: =IF(LİSTELER!C6=0," ",LİSTELER!C6)
A8: 4 | B8: =IF(LİSTELER!B7=0," ",LİSTELER!B7) | C8: =IF(LİSTELER!C7=0," ",LİSTELER!C7)
A9: 5 | B9: =IF(LİSTELER!B8=0," ",LİSTELER!B8) | C9: =IF(LİSTELER!C8=0," ",LİSTELER!C8)
A10: 6 | B10: =IF(LİSTELER!B9=0," ",LİSTELER!B9) | C10: =IF(LİSTELER!C9=0," ",LİSTELER!C9)
A11: 7 | B11: =IF(LİSTELER!B10=0," ",LİSTELER!B10) | C11: =IF(LİSTELER!C10=0," ",LİSTELER!C10)
A12: 8 | B12: =IF(LİSTELER!B11=0," ",LİSTELER!B11) | C12: =IF(LİSTELER!C11=0," ",LİSTELER!C11)
A13: 9 | B13: =IF(LİSTELER!B12=0," ",LİSTELER!B12) | C13: =IF(LİSTELER!C12=0," ",LİSTELER!C12)
A14: 10 | B14: =IF(LİSTELER!B13=0," ",LİSTELER!B13) | C14: =IF(LİSTELER!C13=0," ",LİSTELER!C13)
A15: 11 | B15: =IF(LİSTELER!B14=0," ",LİSTELER!B14) | C15: =IF(LİSTELER!C14=0," ",LİSTELER!C14)
A16: 12 | B16: =IF(LİSTELER!B15=0," ",LİSTELER!B15) | C16: =IF(LİSTELER!C15=0," ",LİSTELER!C15)
... A34: 30 | B34: =IF(LİSTELER!B33=0," ",LİSTELER!B33) | C34: =IF(LİSTELER!C33=0," ",LİSTELER!C33)
A35: 31
A36: 32
A37: 33
A38: 34
A39: 35
A40: 36
A41: 37
A42: 38
A43: 39
A44: 40
